5.00000000000000
0.00000000000000
0.00000000000000
-5.00000000000000
456137.50000000000000
4261742.50000000000000
