5.00000000000000
0.00000000000000
0.00000000000000
-5.00000000000000
461592.50000000000000
4261722.50000000000000
