5.00000000000000
0.00000000000000
0.00000000000000
-5.00000000000000
456892.50000000000000
4400467.50000000000000
