5.00000000000000
0.00000000000000
0.00000000000000
-5.00000000000000
430042.50000000000000
4393707.50000000000000
