5.00000000000000
0.00000000000000
0.00000000000000
-5.00000000000000
430072.50000000000000
4400642.50000000000000
