5.00000000000000
0.00000000000000
0.00000000000000
-5.00000000000000
435402.50000000000000
4393647.50000000000000
