5.00000000000000
0.00000000000000
0.00000000000000
-5.00000000000000
440767.50000000000000
4393622.50000000000000
