5.00000000000000
0.00000000000000
0.00000000000000
-5.00000000000000
435437.50000000000000
4400587.50000000000000
