5.00000000000000
0.00000000000000
0.00000000000000
-5.00000000000000
440802.50000000000000
4400562.50000000000000
