5.00000000000000
0.00000000000000
0.00000000000000
-5.00000000000000
467242.50000000000000
4310242.50000000000000
