5.00000000000000
0.00000000000000
0.00000000000000
-5.00000000000000
472657.50000000000000
4310217.50000000000000
