5.00000000000000
0.00000000000000
0.00000000000000
-5.00000000000000
467272.50000000000000
4317177.50000000000000
