5.00000000000000
0.00000000000000
0.00000000000000
-5.00000000000000
467187.50000000000000
4296372.50000000000000
