5.00000000000000
0.00000000000000
0.00000000000000
-5.00000000000000
472607.50000000000000
4296347.50000000000000
