5.00000000000000
0.00000000000000
0.00000000000000
-5.00000000000000
467217.50000000000000
4303307.50000000000000
