5.00000000000000
0.00000000000000
0.00000000000000
-5.00000000000000
472637.50000000000000
4303282.50000000000000
