5.00000000000000
0.00000000000000
0.00000000000000
-5.00000000000000
467072.50000000000000
4268632.50000000000000
