5.00000000000000
0.00000000000000
0.00000000000000
-5.00000000000000
472512.50000000000000
4268607.50000000000000
