5.00000000000000
0.00000000000000
0.00000000000000
-5.00000000000000
467107.50000000000000
4275567.50000000000000
