5.00000000000000
0.00000000000000
0.00000000000000
-5.00000000000000
472547.50000000000000
4275542.50000000000000
