5.00000000000000
0.00000000000000
0.00000000000000
-5.00000000000000
429667.50000000000000
4352087.50000000000000
