5.00000000000000
0.00000000000000
0.00000000000000
-5.00000000000000
429697.50000000000000
4359027.50000000000000
