5.00000000000000
0.00000000000000
0.00000000000000
-5.00000000000000
456407.50000000000000
4310292.50000000000000
