5.00000000000000
0.00000000000000
0.00000000000000
-5.00000000000000
461827.50000000000000
4310267.50000000000000
