5.00000000000000
0.00000000000000
0.00000000000000
-5.00000000000000
456437.50000000000000
4317227.50000000000000
