5.00000000000000
0.00000000000000
0.00000000000000
-5.00000000000000
461862.50000000000000
4317202.50000000000000
