5.00000000000000
0.00000000000000
0.00000000000000
-5.00000000000000
435172.50000000000000
4365902.50000000000000
