5.00000000000000
0.00000000000000
0.00000000000000
-5.00000000000000
440557.50000000000000
4365877.50000000000000
