5.00000000000000
0.00000000000000
0.00000000000000
-5.00000000000000
435202.50000000000000
4372842.50000000000000
