5.00000000000000
0.00000000000000
0.00000000000000
-5.00000000000000
440587.50000000000000
4372817.50000000000000
