5.00000000000000
0.00000000000000
0.00000000000000
-5.00000000000000
434827.50000000000000
4324287.50000000000000
