5.00000000000000
0.00000000000000
0.00000000000000
-5.00000000000000
440242.50000000000000
4324262.50000000000000
