5.00000000000000
0.00000000000000
0.00000000000000
-5.00000000000000
434857.50000000000000
4331222.50000000000000
