5.00000000000000
0.00000000000000
0.00000000000000
-5.00000000000000
440272.50000000000000
4331202.50000000000000
