5.00000000000000
0.00000000000000
0.00000000000000
-5.00000000000000
456937.50000000000000
4407402.50000000000000
