5.00000000000000
0.00000000000000
0.00000000000000
-5.00000000000000
462292.50000000000000
4407377.50000000000000
