5.00000000000000
0.00000000000000
0.00000000000000
-5.00000000000000
456972.50000000000000
4414337.50000000000000
