5.00000000000000
0.00000000000000
0.00000000000000
-5.00000000000000
456557.50000000000000
4338037.50000000000000
