5.00000000000000
0.00000000000000
0.00000000000000
-5.00000000000000
461962.50000000000000
4338012.50000000000000
