5.00000000000000
0.00000000000000
0.00000000000000
-5.00000000000000
456587.50000000000000
4344972.50000000000000
