5.00000000000000
0.00000000000000
0.00000000000000
-5.00000000000000
461992.50000000000000
4344947.50000000000000
