5.00000000000000
0.00000000000000
0.00000000000000
-5.00000000000000
478027.50000000000000
4296332.50000000000000
