5.00000000000000
0.00000000000000
0.00000000000000
-5.00000000000000
483452.50000000000000
4296307.50000000000000
