5.00000000000000
0.00000000000000
0.00000000000000
-5.00000000000000
478062.50000000000000
4303272.50000000000000
