5.00000000000000
0.00000000000000
0.00000000000000
-5.00000000000000
445282.50000000000000
4268732.50000000000000
