5.00000000000000
0.00000000000000
0.00000000000000
-5.00000000000000
450732.50000000000000
4268707.50000000000000
