5.00000000000000
0.00000000000000
0.00000000000000
-5.00000000000000
445312.50000000000000
4275667.50000000000000
