5.00000000000000
0.00000000000000
0.00000000000000
-5.00000000000000
450762.50000000000000
4275642.50000000000000
