5.00000000000000
0.00000000000000
0.00000000000000
-5.00000000000000
434942.50000000000000
4338132.50000000000000
