5.00000000000000
0.00000000000000
0.00000000000000
-5.00000000000000
440347.50000000000000
4338107.50000000000000
